BEGIN:VCALENDAR
VERSION:2.0
PRODID:-//Tukios.com/
BEGIN:VEVENT
UID:29ea7fdd-cbf3-47e5-bf92-d10c56686320@www.ducharmefuneralhome.com
DTSTAMP:20260421T034215Z
DTSTART:20260509T150000Z
DTEND:20260509T160000Z
SUMMARY:Graveside Service
DESCRIPTION:
URL:https://www.ducharmefuneralhome.com/obituaries/mary-kaszuba
LOCATION:Hillside Cemetery 141 Cemetery Dr  Castleton VT 05735
GEO:43.61271;-73.1869557
END:VEVENT
END:VCALENDAR